0.5
0
0
-0.5
672125.126452418
4737615.87674772
