0.5
0
0
-0.5
628320.907125887
4708881.11157991
