0.5
0
0
-0.5
590850.534074706
4694400.14406004
