0.5
0
0
-0.5
577157.050218439
4691918.62440074
