0.5
0
0
-0.5
635212.905624196
4706699.09173636
