0.5
0
0
-0.5
635530.728518334
4690506.09378743
