0.5
0
0
-0.5
649060.61873047
4700041.65864212
