0.5
0
0
-0.5
608181.303729499
4683082.42657175
