0.5
0
0
-0.5
618606.889368305
4676311.86746949
