0.5
0
0
-0.5
621923.702227809
4683311.0319589
