0.5
0
0
-0.5
598103.812091892
4666736.72838268
