1
0
0
-1
559495.926243081
4742712.34333815
