1
0
0
-1
586808.922948411
4738388.25050708
