1
0
0
-1
641254.117178525
4743945.0313302
