1
0
0
-1
607484.314946166
4724806.40148169
