1
0
0
-1
628066.582369516
4720538.73415524
