1
0
0
-1
634995.04237328
4716045.1089782
