1
0
0
-1
580548.543749781
4692037.41733778
