1
0
0
-1
594210.31061798
4696842.16127072
