1
0
0
-1
621479.360175341
4706532.46957889
