1
0
0
-1
635271.240003733
4702165.07124403
