1
0
0
-1
648879.217334455
4707077.69494778
