1
0
0
-1
615410.48129306
4660149.73126828
