1
0
0
-1
622552.220133348
4646390.41778778
