1
0
0
-1
599814.235933963
4780222.76646814
