1
0
0
-1
606815.080056963
4766447.57821768
