1
0
0
-1
627008.963580487
4776060.41582225
