1
0
0
-1
633790.085980694
4776193.34027477
