2.5
0
0
-2.5
592914.093631901
4780310.39560952
