0.25
0
0
-0.25
562977.12376
4744945.56387
