0.25
0
0
-0.25
573041.82681
4758932.18243
