0.25
0
0
-0.25
569668.04414
4756581.75861
