0.25
0
0
-0.25
586660.6598
4756783.51545
