0.25
0
0
-0.25
566291.95622
4754232.95838
