0.25
0
0
-0.25
586689.94175
4754470.05819
