0.25
0
0
-0.25
569715.12235
4751954.82704
