0.25
0
0
-0.25
573189.91793
4745051.50314
