0.25
0
0
-0.25
600322.54719
4752348.61739
