0.25
0
0
-0.25
644338.96879
4762411.92229
