0.25
0
0
-0.25
627443.35974
4757440.24916
