0.25
0
0
-0.25
627529.33277
4752813.43828
