0.25
0
0
-0.25
634421.79946
4748319.7183
