0.25
0
0
-0.25
637825.1174
4748388.75242
