0.25
0
0
-0.25
658030.37008
4758092.07002
