0.25
0
0
-0.25
661537.90873
4753546.26992
