0.25
0
0
-0.25
671740.18856
4753799.18205
