0.25
0
0
-0.25
654788.69198
4751072.80393
