0.25
0
0
-0.25
678360.91302
4760916.6435
