0.25
0
0
-0.25
681758.5394
4761007.8291
