0.25
0
0
-0.25
675140.95547
4753886.92954
